BEGIN:VCALENDAR
VERSION:2.0
PRODID:-//derHeimathafen - ECPv6.8.3//NONSGML v1.0//EN
CALSCALE:GREGORIAN
METHOD:PUBLISH
X-ORIGINAL-URL:https://derheimathafen.net
X-WR-CALDESC:Veranstaltungen für derHeimathafen
REFRESH-INTERVAL;VALUE=DURATION:PT1H
X-Robots-Tag:noindex
X-PUBLISHED-TTL:PT1H
BEGIN:VTIMEZONE
TZID:Europe/Berlin
BEGIN:DAYLIGHT
TZOFFSETFROM:+0100
TZOFFSETTO:+0200
TZNAME:CEST
DTSTART:20250330T010000
END:DAYLIGHT
BEGIN:STANDARD
TZOFFSETFROM:+0200
TZOFFSETTO:+0100
TZNAME:CET
DTSTART:20251026T010000
END:STANDARD
END:VTIMEZONE
BEGIN:VEVENT
DTSTART;TZID=Europe/Berlin:20250412T190000
DTEND;TZID=Europe/Berlin:20250412T210000
DTSTAMP:20260420T041508
CREATED:20241121T110203Z
LAST-MODIFIED:20241121T110203Z
UID:318-1744484400-1744491600@derheimathafen.net
SUMMARY:Genau! So isses! – Improcomedy vom Feinsten.
DESCRIPTION:DerHeimathafen wird an diesem Abend das Zentrum von improvisierten Fakten zu jeder noch so undenkbaren Frage aus dem Publikum. Wenn Christian und Dirk spontan Antworten finden\, bleibt kein Auge trocken.
URL:https://derheimathafen.net/event/genauso-isses/
LOCATION:Anmeldung per Mail: info@derheimathafen.net\, Holstenstraße 65\, Kiel\, 24103
END:VEVENT
END:VCALENDAR