BEGIN:VCALENDAR
VERSION:2.0
PRODID:-//derHeimathafen - ECPv6.8.3//NONSGML v1.0//EN
CALSCALE:GREGORIAN
METHOD:PUBLISH
X-WR-CALNAME:derHeimathafen
X-ORIGINAL-URL:https://derheimathafen.net
X-WR-CALDESC:Veranstaltungen für derHeimathafen
REFRESH-INTERVAL;VALUE=DURATION:PT1H
X-Robots-Tag:noindex
X-PUBLISHED-TTL:PT1H
BEGIN:VTIMEZONE
TZID:Europe/Berlin
BEGIN:DAYLIGHT
TZOFFSETFROM:+0100
TZOFFSETTO:+0200
TZNAME:CEST
DTSTART:20250330T010000
END:DAYLIGHT
BEGIN:STANDARD
TZOFFSETFROM:+0200
TZOFFSETTO:+0100
TZNAME:CET
DTSTART:20251026T010000
END:STANDARD
END:VTIMEZONE
BEGIN:VEVENT
DTSTART;TZID=Europe/Berlin:20250207T190000
DTEND;TZID=Europe/Berlin:20250207T210000
DTSTAMP:20260420T010943
CREATED:20240120T163734Z
LAST-MODIFIED:20250108T165436Z
UID:82-1738954800-1738962000@derheimathafen.net
SUMMARY:– AUSGEBUCHT – Midlife Crisis Weine & Käse - auch für Jüngere! ;o)
DESCRIPTION:Weine wie du! Anders. Aussergewöhnlich und einmalig. Himmlisch! Weine die du dir gönnst und/oder mit denen du angeben kannst. Wir sinnieren\, wir sind da & mittendrin -im Leben\, bei gutem Wein! Es ist nicht alles Käse\, den gibt es dazu.
URL:https://derheimathafen.net/event/midlife-crisis/
LOCATION:Anmeldung per Mail: info@derheimathafen.net\, Holstenstraße 65\, Kiel\, 24103
END:VEVENT
BEGIN:VEVENT
DTSTART;TZID=Europe/Berlin:20250208T190000
DTEND;TZID=Europe/Berlin:20250208T210000
DTSTAMP:20260420T010943
CREATED:20240120T163732Z
LAST-MODIFIED:20250108T165416Z
UID:76-1739041200-1739048400@derheimathafen.net
SUMMARY:– AUSGEBUCHT – Die 3 Herren - ein krimineller Winterabend
DESCRIPTION:Another crazy night in derHeimathafen. Das Programm wird gerade geplant. Es wird auf jeden Fall spannend und höchst unterhaltsam bei Wein\, Knabbereien und Käse.
URL:https://derheimathafen.net/event/die-3-herren-live-krimi-hoerspiel/
LOCATION:Anmeldung per Mail: info@derheimathafen.net\, Holstenstraße 65\, Kiel\, 24103
END:VEVENT
BEGIN:VEVENT
DTSTART;TZID=Europe/Berlin:20250221T190000
DTEND;TZID=Europe/Berlin:20250221T210000
DTSTAMP:20260420T010943
CREATED:20240120T163734Z
LAST-MODIFIED:20250108T165311Z
UID:84-1740164400-1740171600@derheimathafen.net
SUMMARY:– AUSGEBUCHT – Bella Italia und das weinschöne Europa
DESCRIPTION:Wir wandern nicht nur über das Appenin und schauen uns italienischen Vino an\, sondern streifen zusätzlich durch das weinschöne Europa. Die sonnigsten Plätze im Wingert gehören uns und wir geniessen den Rebensaft.
URL:https://derheimathafen.net/event/wein-bella-italia/
LOCATION:Anmeldung per Mail: info@derheimathafen.net\, Holstenstraße 65\, Kiel\, 24103
END:VEVENT
END:VCALENDAR