BEGIN:VCALENDAR
VERSION:2.0
PRODID:-//derHeimathafen - ECPv6.8.3//NONSGML v1.0//EN
CALSCALE:GREGORIAN
METHOD:PUBLISH
X-ORIGINAL-URL:https://derheimathafen.net
X-WR-CALDESC:Veranstaltungen für derHeimathafen
REFRESH-INTERVAL;VALUE=DURATION:PT1H
X-Robots-Tag:noindex
X-PUBLISHED-TTL:PT1H
BEGIN:VTIMEZONE
TZID:Europe/Berlin
BEGIN:DAYLIGHT
TZOFFSETFROM:+0100
TZOFFSETTO:+0200
TZNAME:CEST
DTSTART:20250330T010000
END:DAYLIGHT
BEGIN:STANDARD
TZOFFSETFROM:+0200
TZOFFSETTO:+0100
TZNAME:CET
DTSTART:20251026T010000
END:STANDARD
END:VTIMEZONE
BEGIN:VEVENT
DTSTART;TZID=Europe/Berlin:20251128T190000
DTEND;TZID=Europe/Berlin:20251128T210000
DTSTAMP:20260425T121938
CREATED:20250320T160648Z
LAST-MODIFIED:20251117T123035Z
UID:340-1764356400-1764363600@derheimathafen.net
SUMMARY:– AUSGEBUCHT – Gemischte Tüte - Portwein-Extra
DESCRIPTION:Ob prickelnd\, weiß\, rosé\, rot und auch PORTWEIN. Alles vertreten. Einmal durchnaschen. Ihr könnt eure Favoriten rauspicken und am Ende nochmal nachprobieren. Dabei weinseelig diesen schönen Erinnerungen nachhängen.
URL:https://derheimathafen.net/event/gemischte-tuete-portwein/
LOCATION:Anmeldung per Mail: info@derheimathafen.net\, Holstenstraße 65\, Kiel\, 24103
END:VEVENT
END:VCALENDAR