BEGIN:VCALENDAR
VERSION:2.0
PRODID:-//derHeimathafen - ECPv6.8.3//NONSGML v1.0//EN
CALSCALE:GREGORIAN
METHOD:PUBLISH
X-ORIGINAL-URL:https://derheimathafen.net
X-WR-CALDESC:Veranstaltungen für derHeimathafen
REFRESH-INTERVAL;VALUE=DURATION:PT1H
X-Robots-Tag:noindex
X-PUBLISHED-TTL:PT1H
BEGIN:VTIMEZONE
TZID:Europe/Berlin
BEGIN:DAYLIGHT
TZOFFSETFROM:+0100
TZOFFSETTO:+0200
TZNAME:CEST
DTSTART:20250330T010000
END:DAYLIGHT
BEGIN:STANDARD
TZOFFSETFROM:+0200
TZOFFSETTO:+0100
TZNAME:CET
DTSTART:20251026T010000
END:STANDARD
END:VTIMEZONE
BEGIN:VEVENT
DTSTART;TZID=Europe/Berlin:20251107T190000
DTEND;TZID=Europe/Berlin:20251107T210000
DTSTAMP:20260425T121909
CREATED:20250904T091846Z
LAST-MODIFIED:20250904T092204Z
UID:374-1762542000-1762549200@derheimathafen.net
SUMMARY:Ein krimineller Herbstabend mit den 3 Herren
DESCRIPTION:Der Wein und die Lachtränen werden fließen\, wenn die drei Herren ihr Knallerprogramm aus Hörspiel\, Comedy und Improtheater ins derHeimathafenbecken der guten Laune schütten. Mit Wein\, Käse und Knabbereien.
URL:https://derheimathafen.net/event/ein-krimineller-herbstabend/
LOCATION:Anmeldung per Mail: info@derheimathafen.net\, Holstenstraße 65\, Kiel\, 24103
END:VEVENT
END:VCALENDAR