BEGIN:VCALENDAR
VERSION:2.0
PRODID:-//derHeimathafen - ECPv6.8.3//NONSGML v1.0//EN
CALSCALE:GREGORIAN
METHOD:PUBLISH
X-ORIGINAL-URL:https://derheimathafen.net
X-WR-CALDESC:Veranstaltungen für derHeimathafen
REFRESH-INTERVAL;VALUE=DURATION:PT1H
X-Robots-Tag:noindex
X-PUBLISHED-TTL:PT1H
BEGIN:VTIMEZONE
TZID:Europe/Berlin
BEGIN:DAYLIGHT
TZOFFSETFROM:+0100
TZOFFSETTO:+0200
TZNAME:CEST
DTSTART:20250330T010000
END:DAYLIGHT
BEGIN:STANDARD
TZOFFSETFROM:+0200
TZOFFSETTO:+0100
TZNAME:CET
DTSTART:20251026T010000
END:STANDARD
END:VTIMEZONE
BEGIN:VEVENT
DTSTART;TZID=Europe/Berlin:20250523T190000
DTEND;TZID=Europe/Berlin:20250523T210000
DTSTAMP:20260420T071542
CREATED:20250320T155709Z
LAST-MODIFIED:20250402T072001Z
UID:333-1748026800-1748034000@derheimathafen.net
SUMMARY:Midlife Crisis Weine & Käse - auch für Jüngere! ;o)
DESCRIPTION:Weine wie du! Anders. Aussergewöhnlich und einmalig. Himmlisch! Weine die du dir gönnst und/oder mit denen du angeben kannst. Wir sinnieren\, wir sind da & mittendrin -im Leben\, bei gutem Wein! Es ist nicht alles Käse\, den gibt es dazu.
URL:https://derheimathafen.net/event/midlife-crisis-weine-o-3/
LOCATION:Anmeldung per Mail: info@derheimathafen.net\, Holstenstraße 65\, Kiel\, 24103
END:VEVENT
END:VCALENDAR