BEGIN:VCALENDAR
VERSION:2.0
PRODID:-//derHeimathafen - ECPv6.8.3//NONSGML v1.0//EN
CALSCALE:GREGORIAN
METHOD:PUBLISH
X-ORIGINAL-URL:https://derheimathafen.net
X-WR-CALDESC:Veranstaltungen für derHeimathafen
REFRESH-INTERVAL;VALUE=DURATION:PT1H
X-Robots-Tag:noindex
X-PUBLISHED-TTL:PT1H
BEGIN:VTIMEZONE
TZID:Europe/Berlin
BEGIN:DAYLIGHT
TZOFFSETFROM:+0100
TZOFFSETTO:+0200
TZNAME:CEST
DTSTART:20250330T010000
END:DAYLIGHT
BEGIN:STANDARD
TZOFFSETFROM:+0200
TZOFFSETTO:+0100
TZNAME:CET
DTSTART:20251026T010000
END:STANDARD
END:VTIMEZONE
BEGIN:VEVENT
DTSTART;TZID=Europe/Berlin:20250510T190000
DTEND;TZID=Europe/Berlin:20250510T210000
DTSTAMP:20260420T071450
CREATED:20240627T141341Z
LAST-MODIFIED:20250320T155330Z
UID:219-1746903600-1746910800@derheimathafen.net
SUMMARY:Die 3 Herren - ein bunter Hörspielabend
DESCRIPTION:Ein atemberaubend witziger und spannender Maiabend\, mit den drei Herren der Hörspielschöpfung\, erwartet das Publikum. Das sich bei Wein\, Käse und Knabberein einen wundervollen Abend schenkt.
URL:https://derheimathafen.net/event/die-3-herren-ein-bunter-hoerspielabend/
LOCATION:Anmeldung per Mail: info@derheimathafen.net\, Holstenstraße 65\, Kiel\, 24103
END:VEVENT
END:VCALENDAR