BEGIN:VCALENDAR
VERSION:2.0
PRODID:-//derHeimathafen - ECPv6.8.3//NONSGML v1.0//EN
CALSCALE:GREGORIAN
METHOD:PUBLISH
X-WR-CALNAME:derHeimathafen
X-ORIGINAL-URL:https://derheimathafen.net
X-WR-CALDESC:Veranstaltungen für derHeimathafen
REFRESH-INTERVAL;VALUE=DURATION:PT1H
X-Robots-Tag:noindex
X-PUBLISHED-TTL:PT1H
BEGIN:VTIMEZONE
TZID:Europe/Berlin
BEGIN:DAYLIGHT
TZOFFSETFROM:+0100
TZOFFSETTO:+0200
TZNAME:CEST
DTSTART:20250330T010000
END:DAYLIGHT
BEGIN:STANDARD
TZOFFSETFROM:+0200
TZOFFSETTO:+0100
TZNAME:CET
DTSTART:20251026T010000
END:STANDARD
END:VTIMEZONE
BEGIN:VEVENT
DTSTART;TZID=Europe/Berlin:20250328T190000
DTEND;TZID=Europe/Berlin:20250328T210000
DTSTAMP:20260420T041214
CREATED:20241121T104757Z
LAST-MODIFIED:20241121T104757Z
UID:310-1743188400-1743195600@derheimathafen.net
SUMMARY:World of wines – ein rätselhafter Weinabend
DESCRIPTION:Ihr seid gefragt! Als Mr. & Mrs. Wine-Riddle quizzt ihr euch von Wein zu Wein. Ihr müsst kein Weinwissen mitbringen\, dass gibt es hier –mit großem Spaßfaktor. Leckerer Käse bringt Energie für die Denkleistung. Genuss-Gamification!
URL:https://derheimathafen.net/event/world-of-wines-ein-raetselhafter-weinabend-2/
LOCATION:Anmeldung per Mail: info@derheimathafen.net\, Holstenstraße 65\, Kiel\, 24103
END:VEVENT
END:VCALENDAR