BEGIN:VCALENDAR
VERSION:2.0
PRODID:-//derHeimathafen - ECPv6.8.3//NONSGML v1.0//EN
CALSCALE:GREGORIAN
METHOD:PUBLISH
X-WR-CALNAME:derHeimathafen
X-ORIGINAL-URL:https://derheimathafen.net
X-WR-CALDESC:Veranstaltungen für derHeimathafen
REFRESH-INTERVAL;VALUE=DURATION:PT1H
X-Robots-Tag:noindex
X-PUBLISHED-TTL:PT1H
BEGIN:VTIMEZONE
TZID:Europe/Berlin
BEGIN:DAYLIGHT
TZOFFSETFROM:+0100
TZOFFSETTO:+0200
TZNAME:CEST
DTSTART:20250330T010000
END:DAYLIGHT
BEGIN:STANDARD
TZOFFSETFROM:+0200
TZOFFSETTO:+0100
TZNAME:CET
DTSTART:20251026T010000
END:STANDARD
END:VTIMEZONE
BEGIN:VEVENT
DTSTART;TZID=Europe/Berlin:20250321T190000
DTEND;TZID=Europe/Berlin:20250321T210000
DTSTAMP:20260420T041145
CREATED:20241121T104159Z
LAST-MODIFIED:20241121T104159Z
UID:306-1742583600-1742590800@derheimathafen.net
SUMMARY:Midlife Crisis Weine & Käse - auch für Jüngere! ;o)
DESCRIPTION:Weine wie du! Anders. Aussergewöhnlich und einmalig. Himmlisch! Weine die du dir gönnst und/oder mit denen du angeben kannst. Wir sinnieren\, wir sind da & mittendrin -im Leben\, bei gutem Wein! Es ist nicht alles Käse\, den gibt es dazu.
URL:https://derheimathafen.net/event/midlife-crisis-weine-3/
LOCATION:Anmeldung per Mail: info@derheimathafen.net\, Holstenstraße 65\, Kiel\, 24103
END:VEVENT
END:VCALENDAR