BEGIN:VCALENDAR
VERSION:2.0
PRODID:-//derHeimathafen - ECPv6.8.3//NONSGML v1.0//EN
CALSCALE:GREGORIAN
METHOD:PUBLISH
X-WR-CALNAME:derHeimathafen
X-ORIGINAL-URL:https://derheimathafen.net
X-WR-CALDESC:Veranstaltungen für derHeimathafen
REFRESH-INTERVAL;VALUE=DURATION:PT1H
X-Robots-Tag:noindex
X-PUBLISHED-TTL:PT1H
BEGIN:VTIMEZONE
TZID:Europe/Berlin
BEGIN:DAYLIGHT
TZOFFSETFROM:+0100
TZOFFSETTO:+0200
TZNAME:CEST
DTSTART:20240331T010000
END:DAYLIGHT
BEGIN:STANDARD
TZOFFSETFROM:+0200
TZOFFSETTO:+0100
TZNAME:CET
DTSTART:20241027T010000
END:STANDARD
END:VTIMEZONE
BEGIN:VEVENT
DTSTART;TZID=Europe/Berlin:20241220T190000
DTEND;TZID=Europe/Berlin:20241220T210000
DTSTAMP:20260419T232858
CREATED:20240120T163733Z
LAST-MODIFIED:20240909T131911Z
UID:79-1734721200-1734728400@derheimathafen.net
SUMMARY:Wein\, Schoki und Käse
DESCRIPTION:Jetzt vor Weihnachten werden die Kalorien nicht mehr gezählt. Jetzt können wir in die\, vielleicht nicht geahnte\, Kombinationsmöglichkeit von Wein und Schokolade blicken. Die Weine sind nicht nur süß. Aromatischer Käse dazu!
URL:https://derheimathafen.net/event/wein-schoki-und-kaese/
LOCATION:Anmeldung per Mail: info@derheimathafen.net\, Holstenstraße 65\, Kiel\, 24103
END:VEVENT
END:VCALENDAR