BEGIN:VCALENDAR
VERSION:2.0
PRODID:-//derHeimathafen - ECPv6.8.3//NONSGML v1.0//EN
CALSCALE:GREGORIAN
METHOD:PUBLISH
X-ORIGINAL-URL:https://derheimathafen.net
X-WR-CALDESC:Veranstaltungen für derHeimathafen
REFRESH-INTERVAL;VALUE=DURATION:PT1H
X-Robots-Tag:noindex
X-PUBLISHED-TTL:PT1H
BEGIN:VTIMEZONE
TZID:Europe/Berlin
BEGIN:DAYLIGHT
TZOFFSETFROM:+0100
TZOFFSETTO:+0200
TZNAME:CEST
DTSTART:20240331T010000
END:DAYLIGHT
BEGIN:STANDARD
TZOFFSETFROM:+0200
TZOFFSETTO:+0100
TZNAME:CET
DTSTART:20241027T010000
END:STANDARD
END:VTIMEZONE
BEGIN:VEVENT
DTSTART;TZID=Europe/Berlin:20241206T190000
DTEND;TZID=Europe/Berlin:20241206T210000
DTSTAMP:20260419T233020
CREATED:20240120T163732Z
LAST-MODIFIED:20240909T132415Z
UID:77-1733511600-1733518800@derheimathafen.net
SUMMARY:Glas zu klein! Festtagswein mit Käse.
DESCRIPTION:Weine\, für die jedes Glas zu klein erscheint! Komplex\, tief\, Festtags-tauglich! Die Winterküche begleitend\, deinen Couch-Aufenthalt unterstützend. Finde deine Ruhe\, geniesse die Zeit. Alleine oder mit deinen Liebsten!
URL:https://derheimathafen.net/event/glas-zu-klein-festtagswein-mit-kaese-2/
LOCATION:Anmeldung per Mail: info@derheimathafen.net\, Holstenstraße 65\, Kiel\, 24103
END:VEVENT
END:VCALENDAR