BEGIN:VCALENDAR
VERSION:2.0
PRODID:-//derHeimathafen - ECPv6.8.3//NONSGML v1.0//EN
CALSCALE:GREGORIAN
METHOD:PUBLISH
X-ORIGINAL-URL:https://derheimathafen.net
X-WR-CALDESC:Veranstaltungen für derHeimathafen
REFRESH-INTERVAL;VALUE=DURATION:PT1H
X-Robots-Tag:noindex
X-PUBLISHED-TTL:PT1H
BEGIN:VTIMEZONE
TZID:Europe/Berlin
BEGIN:DAYLIGHT
TZOFFSETFROM:+0100
TZOFFSETTO:+0200
TZNAME:CEST
DTSTART:20240331T010000
END:DAYLIGHT
BEGIN:STANDARD
TZOFFSETFROM:+0200
TZOFFSETTO:+0100
TZNAME:CET
DTSTART:20241027T010000
END:STANDARD
END:VTIMEZONE
BEGIN:VEVENT
DTSTART;TZID=Europe/Berlin:20241116T190000
DTEND;TZID=Europe/Berlin:20241116T233000
DTSTAMP:20260419T220221
CREATED:20240120T163731Z
LAST-MODIFIED:20240909T132542Z
UID:73-1731783600-1731799800@derheimathafen.net
SUMMARY:Big Bottle Party & Käse & DJ
DESCRIPTION:Unsere legendäre Big Bottle Party! Ein Genussabend ohne Seminarcharakter. Es werden nur große Flaschen ab Magnum geöffnet! Dazu legt der DJ Musik aus den 80zigern auf. Kulinarische Kleinigkeiten und Käse begleiten die Weine.
URL:https://derheimathafen.net/event/big-bottle-party-2/
LOCATION:Anmeldung per Mail: info@derheimathafen.net\, Holstenstraße 65\, Kiel\, 24103
END:VEVENT
END:VCALENDAR