BEGIN:VCALENDAR
VERSION:2.0
PRODID:-//derHeimathafen - ECPv6.8.3//NONSGML v1.0//EN
CALSCALE:GREGORIAN
METHOD:PUBLISH
X-WR-CALNAME:derHeimathafen
X-ORIGINAL-URL:https://derheimathafen.net
X-WR-CALDESC:Veranstaltungen für derHeimathafen
REFRESH-INTERVAL;VALUE=DURATION:PT1H
X-Robots-Tag:noindex
X-PUBLISHED-TTL:PT1H
BEGIN:VTIMEZONE
TZID:Europe/Berlin
BEGIN:DAYLIGHT
TZOFFSETFROM:+0100
TZOFFSETTO:+0200
TZNAME:CEST
DTSTART:20240331T010000
END:DAYLIGHT
BEGIN:STANDARD
TZOFFSETFROM:+0200
TZOFFSETTO:+0100
TZNAME:CET
DTSTART:20241027T010000
END:STANDARD
END:VTIMEZONE
BEGIN:VEVENT
DTSTART;TZID=Europe/Berlin:20241109T190000
DTEND;TZID=Europe/Berlin:20241109T210000
DTSTAMP:20260419T220107
CREATED:20240627T142014Z
LAST-MODIFIED:20240909T132627Z
UID:231-1731178800-1731186000@derheimathafen.net
SUMMARY:Die 3 Herren - Live Krimi Hörspiel bei Wein
DESCRIPTION:Krimi und Wein! Liebeswirren\, technische Kabinettstückchen\, menschliche Abgründe und die drei Herren mittendrin. Ein humorvoller Krimiabend\, den die drei Ermittler souverän auf die Bühne bringen.
URL:https://derheimathafen.net/event/die-3-herren-live-krimi-hoerspiel-bei-wein-3/
LOCATION:Anmeldung per Mail: info@derheimathafen.net\, Holstenstraße 65\, Kiel\, 24103
END:VEVENT
END:VCALENDAR